BEGIN:VCALENDAR
VERSION:2.0
PRODID:-//ZContent.net//ZapCalLib 1.0//EN
CALSCALE:GREGORIAN
METHOD:PUBLISH
BEGIN:VEVENT
SUMMARY:FÄLLT AUS!! Regionalreise 2020 nach Baden-Württemberg | Eine Vera
 nstaltung der Freundinnen und Freunde
DTSTART:20200507T160000
DTEND:20200510T170000
UID:2021-12-02-02-31-53-0-@calendar.boell.de
DTSTAMP:20211202T013153
DESCRIPTION:▶ Siehe Veranstaltungsbeschreibung – Heinrich-Böll-Stiftun
 g - Bundesstiftung Berlin
END:VEVENT
END:VCALENDAR
