BEGIN:VCALENDAR
VERSION:2.0
PRODID:-//ZContent.net//ZapCalLib 1.0//EN
CALSCALE:GREGORIAN
METHOD:PUBLISH
BEGIN:VEVENT
SUMMARY:Auf den Spuren von Rosa Luxemburg | Stadtspaziergang
DTSTART:20200830T140000
DTEND:20200830T180000
UID:2026-04-24-08-46-07-0-@calendar.boell.de
DTSTAMP:20260424T064607
DESCRIPTION:▶ Siehe Veranstaltungsbeschreibung – Landesstiftung Berlin 
 (Bildungswerk)
END:VEVENT
END:VCALENDAR
