BEGIN:VCALENDAR
VERSION:2.0
PRODID:-//ZContent.net//ZapCalLib 1.0//EN
CALSCALE:GREGORIAN
METHOD:PUBLISH
BEGIN:VEVENT
SUMMARY:ABGESAGT - Chile vor dem Verfassungsplebiszit am 26.4.2020 | 
DTSTART:20200324T183000
DTEND:20200324T200000
UID:2021-12-02-04-32-16-0-@calendar.boell.de
DTSTAMP:20211202T033216
DESCRIPTION:Heinrich-Böll-Stiftung - Bundesstiftung Berlin – Berlin – 
 Heinrich-Böll-Stiftung - Bundesstiftung Berlin
END:VEVENT
END:VCALENDAR
