BEGIN:VCALENDAR
VERSION:2.0
PRODID:-//ZContent.net//ZapCalLib 1.0//EN
CALSCALE:GREGORIAN
METHOD:PUBLISH
BEGIN:VEVENT
SUMMARY:Hartz IV – 70 Prozent Menschenwürde | Veranstaltung der Reihe: S
 chritt für Schritt ins Paradies! Wege aus dem Neoliberalismus.
DTSTART:20200225T190000
DTEND:20200225T210000
UID:2021-12-02-04-35-04-0-@calendar.boell.de
DTSTAMP:20211202T033504
DESCRIPTION:▶ Siehe Veranstaltungsbeschreibung – Hannover – Landessti
 ftung Niedersachsen (Leben & Umwelt)
END:VEVENT
END:VCALENDAR
