BEGIN:VCALENDAR
VERSION:2.0
PRODID:-//ZContent.net//ZapCalLib 1.0//EN
CALSCALE:GREGORIAN
METHOD:PUBLISH
BEGIN:VEVENT
SUMMARY:„Sie ist schwanger – sie muss die Entscheidung treffen“ | 
DTSTART:20200207T200000
DTEND:20200207T213000
UID:2021-12-02-04-35-31-0-@calendar.boell.de
DTSTAMP:20211202T033531
DESCRIPTION:▶ Siehe Veranstaltungsbeschreibung – Verden – Landesstift
 ung Niedersachsen (Leben & Umwelt)
END:VEVENT
END:VCALENDAR
