BEGIN:VCALENDAR
VERSION:2.0
PRODID:-//ZContent.net//ZapCalLib 1.0//EN
CALSCALE:GREGORIAN
METHOD:PUBLISH
BEGIN:VEVENT
SUMMARY:Wohin mit unseren Forderungen? Wen wie ansprechen? | in der Reihe "
 Ahoi! Bereit zur Klimawende"
DTSTART:20200226T173000
DTEND:20200226T200000
UID:2026-04-19-22-05-59-0-@calendar.boell.de
DTSTAMP:20260419T200559
DESCRIPTION:▶ Siehe Veranstaltungsbeschreibung – Rostock – Landesstif
 tung Mecklenburg-Vorpommern
END:VEVENT
END:VCALENDAR
