BEGIN:VCALENDAR
VERSION:2.0
PRODID:-//ZContent.net//ZapCalLib 1.0//EN
CALSCALE:GREGORIAN
METHOD:PUBLISH
BEGIN:VEVENT
SUMMARY:AUSGEBUCHT Grenzlandtour mit dem Fahrrad | Entlang der Elbe in Bran
 denburg, Niedersachsen und Sachsen-Anhalt
DTSTART:20200824T131024
DTEND:20200828T141024
UID:2026-04-23-02-07-49-0-@calendar.boell.de
DTSTAMP:20260423T000749
DESCRIPTION:▶ Siehe Veranstaltungsbeschreibung – Landesstiftung Hamburg
END:VEVENT
END:VCALENDAR
