BEGIN:VCALENDAR
VERSION:2.0
PRODID:-//ZContent.net//ZapCalLib 1.0//EN
CALSCALE:GREGORIAN
METHOD:PUBLISH
BEGIN:VEVENT
SUMMARY:ABGESAGT!  Völkische Landnahme  | Buchvorstellung und Diskussion m
 it Andrea Röpke
DTSTART:20200324T190000
DTEND:20200324T210000
UID:2026-04-23-23-07-12-0-@calendar.boell.de
DTSTAMP:20260423T210712
DESCRIPTION:▶ Siehe Veranstaltungsbeschreibung – Gera – Landesstiftun
 g Thüringen
END:VEVENT
END:VCALENDAR
