BEGIN:VCALENDAR
VERSION:2.0
PRODID:-//ZContent.net//ZapCalLib 1.0//EN
CALSCALE:GREGORIAN
METHOD:PUBLISH
BEGIN:VEVENT
SUMMARY:Antifeminismus, Frauen*hass und (extrem) rechte Mobilisierungen fü
 r 'Frauenrechte' | Vortrag und Diskussion
DTSTART:20200130T193000
DTEND:20200130T213000
UID:2026-04-22-23-07-53-0-@calendar.boell.de
DTSTAMP:20260422T210753
DESCRIPTION:▶ Siehe Veranstaltungsbeschreibung – Hamburg – Landesstif
 tung Hamburg
END:VEVENT
END:VCALENDAR
