BEGIN:VCALENDAR
VERSION:2.0
PRODID:-//ZContent.net//ZapCalLib 1.0//EN
CALSCALE:GREGORIAN
METHOD:PUBLISH
BEGIN:VEVENT
SUMMARY:Leben mit Insekten
DTSTART:20200217T190000
DTEND:20200219T200000
UID:2026-04-21-18-31-07-0-@calendar.boell.de
DTSTAMP:20260421T163107
DESCRIPTION:▶ Siehe Veranstaltungsbeschreibung – Landesstiftung Thürin
 gen
END:VEVENT
END:VCALENDAR
