BEGIN:VCALENDAR
VERSION:2.0
PRODID:-//ZContent.net//ZapCalLib 1.0//EN
CALSCALE:GREGORIAN
METHOD:PUBLISH
BEGIN:VEVENT
SUMMARY:Politisch Handeln im autoritären Sog | Ungehorsam
DTSTART:20210702T094500
DTEND:20210702T160000
UID:2026-04-23-10-51-50-0-@calendar.boell.de
DTSTAMP:20260423T085150
DESCRIPTION:▶ Online-Veranstaltung – Landesstiftung Sachsen (Weiterdenk
 en)
END:VEVENT
END:VCALENDAR
