BEGIN:VCALENDAR
VERSION:2.0
PRODID:-//ZContent.net//ZapCalLib 1.0//EN
CALSCALE:GREGORIAN
METHOD:PUBLISH
BEGIN:VEVENT
SUMMARY:Flammende Köpfe | Lecture Performance über rechten Online-Aktivis
 mus 
DTSTART:20200117T183000
DTEND:20200117T203000
UID:2026-04-21-10-27-44-0-@calendar.boell.de
DTSTAMP:20260421T082744
DESCRIPTION:▶ Siehe Veranstaltungsbeschreibung – Stuttgart – Externe 
 Veranstaltung
END:VEVENT
END:VCALENDAR
