BEGIN:VCALENDAR
VERSION:2.0
PRODID:-//ZContent.net//ZapCalLib 1.0//EN
CALSCALE:GREGORIAN
METHOD:PUBLISH
BEGIN:VEVENT
SUMMARY:abgesagt: Auf den Spuren von Erika & Klaus Mann | Szenische Lesung,
  Musik und Diskussion mit Ute Maria Lerner und Mark Weigel
DTSTART:20200319T193000
DTEND:20200319T210000
UID:2021-12-02-04-35-56-0-@calendar.boell.de
DTSTAMP:20211202T033556
DESCRIPTION:▶ Siehe Veranstaltungsbeschreibung – Osnabrück – Landess
 tiftung Niedersachsen (Leben & Umwelt)
END:VEVENT
END:VCALENDAR
