BEGIN:VCALENDAR
VERSION:2.0
PRODID:-//ZContent.net//ZapCalLib 1.0//EN
CALSCALE:GREGORIAN
METHOD:PUBLISH
BEGIN:VEVENT
SUMMARY:abgesagt: Salze, Abwasser und schwefelhaltige Luft: Grenzübergreif
 ende Umweltverschmutzung in den 70er und 80er Jahren | 
DTSTART:20200519T190000
DTEND:20200519T210000
UID:2021-12-02-04-35-45-0-@calendar.boell.de
DTSTAMP:20211202T033545
DESCRIPTION:▶ Siehe Veranstaltungsbeschreibung – Landesstiftung Nieders
 achsen (Leben & Umwelt)
END:VEVENT
END:VCALENDAR
