BEGIN:VCALENDAR
VERSION:2.0
PRODID:-//ZContent.net//ZapCalLib 1.0//EN
CALSCALE:GREGORIAN
METHOD:PUBLISH
BEGIN:VEVENT
SUMMARY:AUSGEBUCHT Demokratie braucht Feminismus – Antifeminismus online 
 entgegentreten | Online-Seminar
DTSTART:20201118T180000
DTEND:20201118T200000
UID:2026-04-22-20-13-09-0-@calendar.boell.de
DTSTAMP:20260422T181309
DESCRIPTION:▶ Siehe Veranstaltungsbeschreibung – Landesstiftung Hamburg
END:VEVENT
END:VCALENDAR
