BEGIN:VCALENDAR
VERSION:2.0
PRODID:-//ZContent.net//ZapCalLib 1.0//EN
CALSCALE:GREGORIAN
METHOD:PUBLISH
BEGIN:VEVENT
SUMMARY:AUSGEBUCHT Demokratie braucht Feminismus – Antifeminismus online 
 entgegentreten | virtuelles Seminar
DTSTART:20200506T180000
DTEND:20200506T200000
UID:2026-04-23-04-35-48-0-@calendar.boell.de
DTSTAMP:20260423T023548
DESCRIPTION:▶ Siehe Veranstaltungsbeschreibung – Landesstiftung Hamburg
END:VEVENT
END:VCALENDAR
