BEGIN:VCALENDAR
VERSION:2.0
PRODID:-//ZContent.net//ZapCalLib 1.0//EN
CALSCALE:GREGORIAN
METHOD:PUBLISH
BEGIN:VEVENT
SUMMARY:Motivation und Stressprävention  | Innere Stärke entwickeln 
DTSTART:20200215T100000
DTEND:20200215T173000
UID:2021-12-02-03-49-54-0-@calendar.boell.de
DTSTAMP:20211202T024954
DESCRIPTION:▶ Siehe Veranstaltungsbeschreibung – Potsdam – Landesstif
 tung Brandenburg
END:VEVENT
END:VCALENDAR
