BEGIN:VCALENDAR
VERSION:2.0
PRODID:-//ZContent.net//ZapCalLib 1.0//EN
CALSCALE:GREGORIAN
METHOD:PUBLISH
BEGIN:VEVENT
SUMMARY:Obdach- und Wohnungslosenuntersuchung 2018 | Ergebnisse und Konsequ
 enzen
DTSTART:20200107T181500
DTEND:20200107T194500
UID:2021-12-02-04-34-47-0-@calendar.boell.de
DTSTAMP:20211202T033447
DESCRIPTION:▶ Siehe Veranstaltungsbeschreibung – Hamburg – Landesstif
 tung Hamburg
END:VEVENT
END:VCALENDAR
