BEGIN:VCALENDAR
VERSION:2.0
PRODID:-//ZContent.net//ZapCalLib 1.0//EN
CALSCALE:GREGORIAN
METHOD:PUBLISH
BEGIN:VEVENT
SUMMARY:Hässlichkeit verlernen - von künstlerischer Praxis und kolonialer
  Sehgewohnheit | 2. Teil der Reihe "Ansätze zur Dekolonisierung der Gegen
 wart"
DTSTART:20200226T180000
DTEND:20200226T200000
UID:2021-12-02-04-30-27-0-@calendar.boell.de
DTSTAMP:20211202T033027
DESCRIPTION:▶ Siehe Veranstaltungsbeschreibung – Hamburg – Landesstif
 tung Hamburg
END:VEVENT
END:VCALENDAR
