BEGIN:VCALENDAR
VERSION:2.0
PRODID:-//ZContent.net//ZapCalLib 1.0//EN
CALSCALE:GREGORIAN
METHOD:PUBLISH
BEGIN:VEVENT
SUMMARY:Digitale Landwirtschaft: Gläserne Landwirte oder Lösung globaler 
 Krisen?  | Podiumsdiskussion
DTSTART:20200114T190000
DTEND:20200114T210000
UID:2026-04-23-08-39-01-0-@calendar.boell.de
DTSTAMP:20260423T063901
DESCRIPTION:Heinrich-Böll-Stiftung - Bundesstiftung Berlin – Berlin – 
 Heinrich-Böll-Stiftung - Bundesstiftung Berlin
END:VEVENT
END:VCALENDAR
