BEGIN:VCALENDAR
VERSION:2.0
PRODID:-//ZContent.net//ZapCalLib 1.0//EN
CALSCALE:GREGORIAN
METHOD:PUBLISH
BEGIN:VEVENT
SUMMARY:Haltung zeigen! Online-Seminar | Argumentieren gegen Antifeminismus
DTSTART:20200417T170000
DTEND:20200418T150000
UID:2026-04-21-00-13-56-0-@calendar.boell.de
DTSTAMP:20260420T221356
DESCRIPTION:▶ Siehe Veranstaltungsbeschreibung – Stiftung Leben & Umwel
 t / Heinrich-Böll-Stiftung Niedersachsen
END:VEVENT
END:VCALENDAR
