BEGIN:VCALENDAR
VERSION:2.0
PRODID:-//ZContent.net//ZapCalLib 1.0//EN
CALSCALE:GREGORIAN
METHOD:PUBLISH
BEGIN:VEVENT
SUMMARY:Glitter To My Sisters*  | Fundraiser Party, Mini-Festival, Bday*
DTSTART:20191219T200000
DTEND:20191220T040000
UID:2026-04-23-04-49-16-0-@calendar.boell.de
DTSTAMP:20260423T024916
DESCRIPTION:▶ Siehe Veranstaltungsbeschreibung – Berlin – Externe Ver
 anstaltung
END:VEVENT
END:VCALENDAR
