BEGIN:VCALENDAR
VERSION:2.0
PRODID:-//ZContent.net//ZapCalLib 1.0//EN
CALSCALE:GREGORIAN
METHOD:PUBLISH
BEGIN:VEVENT
SUMMARY:Ausgebucht!! Kampagnen mit dem Smartphone | Social Media Workshop
DTSTART:20200208T100000
DTEND:20200208T170000
UID:2021-12-02-04-24-11-0-@calendar.boell.de
DTSTAMP:20211202T032411
DESCRIPTION:▶ Siehe Veranstaltungsbeschreibung – Erfurt – GreenCampus
END:VEVENT
END:VCALENDAR
