BEGIN:VCALENDAR
VERSION:2.0
PRODID:-//ZContent.net//ZapCalLib 1.0//EN
CALSCALE:GREGORIAN
METHOD:PUBLISH
BEGIN:VEVENT
SUMMARY:Erinnerung an Klara Blum:  | Essays und Kritiken aus der Mitte Euro
 pas
DTSTART:20191215T180000
DTEND:20191215T200000
UID:2021-12-02-04-35-44-0-@calendar.boell.de
DTSTAMP:20211202T033544
DESCRIPTION:▶ Siehe Veranstaltungsbeschreibung – Bremen – Landesstift
 ung Bremen
END:VEVENT
END:VCALENDAR
