BEGIN:VCALENDAR
VERSION:2.0
PRODID:-//ZContent.net//ZapCalLib 1.0//EN
CALSCALE:GREGORIAN
METHOD:PUBLISH
BEGIN:VEVENT
SUMMARY:Virtuelles Rede- und Medientraining | Wirkungsvoll und souverän vo
 r Publikum sprechen!
DTSTART:20200605T150000
DTEND:20200606T163000
UID:2026-04-21-12-52-30-0-@calendar.boell.de
DTSTAMP:20260421T105230
DESCRIPTION:▶ Siehe Veranstaltungsbeschreibung – Hannover – Stiftung 
 Leben & Umwelt / Heinrich-Böll-Stiftung Niedersachsen
END:VEVENT
END:VCALENDAR
