BEGIN:VCALENDAR
VERSION:2.0
PRODID:-//ZContent.net//ZapCalLib 1.0//EN
CALSCALE:GREGORIAN
METHOD:PUBLISH
BEGIN:VEVENT
SUMMARY:Körper-, Stimm- und Sprechtraining  | Der gelungene Auftritt
DTSTART:20200821T150000
DTEND:20200822T173000
UID:2021-12-02-03-49-59-0-@calendar.boell.de
DTSTAMP:20211202T024959
DESCRIPTION:▶ Siehe Veranstaltungsbeschreibung – Hannover – Landessti
 ftung Niedersachsen (Leben & Umwelt)
END:VEVENT
END:VCALENDAR
