BEGIN:VCALENDAR
VERSION:2.0
PRODID:-//ZContent.net//ZapCalLib 1.0//EN
CALSCALE:GREGORIAN
METHOD:PUBLISH
BEGIN:VEVENT
SUMMARY:abgesagt: Fit for Politics-Seminar "Selbstfürsorgekompetenz" | Sor
 ge dich nicht, sondern sorge lieber gut für dich!
DTSTART:20200320T140000
DTEND:20200321T200000
UID:2021-12-02-03-49-53-0-@calendar.boell.de
DTSTAMP:20211202T024953
DESCRIPTION:▶ Siehe Veranstaltungsbeschreibung – Hannover – Landessti
 ftung Niedersachsen (Leben & Umwelt)
END:VEVENT
END:VCALENDAR
