BEGIN:VCALENDAR
VERSION:2.0
PRODID:-//ZContent.net//ZapCalLib 1.0//EN
CALSCALE:GREGORIAN
METHOD:PUBLISH
BEGIN:VEVENT
SUMMARY:Zukunft Medienpolitik | Trends und Gestaltungsbedarfe
DTSTART:20200120T130000
DTEND:20200120T183000
UID:2021-12-02-04-21-33-0-@calendar.boell.de
DTSTAMP:20211202T032133
DESCRIPTION:Heinrich-Böll-Stiftung - Bundesstiftung Berlin – Berlin – 
 Heinrich-Böll-Stiftung - Bundesstiftung Berlin
END:VEVENT
END:VCALENDAR
