BEGIN:VCALENDAR
VERSION:2.0
PRODID:-//ZContent.net//ZapCalLib 1.0//EN
CALSCALE:GREGORIAN
METHOD:PUBLISH
BEGIN:VEVENT
SUMMARY:Der Orient ohne Orientierung | Staat, Gesellschaft und Natur im Nah
 en Osten in der Krise
DTSTART:20200613T100000
DTEND:20200614T160000
UID:2021-12-02-04-27-36-0-@calendar.boell.de
DTSTAMP:20211202T032736
DESCRIPTION:▶ Siehe Veranstaltungsbeschreibung – Landesstiftung Berlin 
 (Bildungswerk)
END:VEVENT
END:VCALENDAR
