BEGIN:VCALENDAR
VERSION:2.0
PRODID:-//ZContent.net//ZapCalLib 1.0//EN
CALSCALE:GREGORIAN
METHOD:PUBLISH
BEGIN:VEVENT
SUMMARY:Wie können digitale Werkzeuge zur Zukunftsfähigkeit beitragen? | 
 Ein Werkstattgespräch.
DTSTART:20200226T170000
DTEND:20200226T210000
UID:2026-04-23-06-00-33-0-@calendar.boell.de
DTSTAMP:20260423T040033
DESCRIPTION:▶ Siehe Veranstaltungsbeschreibung – Rostock – Landesstif
 tung Mecklenburg-Vorpommern
END:VEVENT
END:VCALENDAR
