BEGIN:VCALENDAR
VERSION:2.0
PRODID:-//ZContent.net//ZapCalLib 1.0//EN
CALSCALE:GREGORIAN
METHOD:PUBLISH
BEGIN:VEVENT
SUMMARY:Aktionstag: Saatgut tauschen – Vielfalt entdecken | Tauschen // I
 nformation // Film // Ausstellung 
DTSTART:20200301T130000
DTEND:20200301T170000
UID:2026-04-23-00-22-07-0-@calendar.boell.de
DTSTAMP:20260422T222207
DESCRIPTION:▶ Siehe Veranstaltungsbeschreibung – Rostock – Landesstif
 tung Mecklenburg-Vorpommern
END:VEVENT
END:VCALENDAR
