BEGIN:VCALENDAR
VERSION:2.0
PRODID:-//ZContent.net//ZapCalLib 1.0//EN
CALSCALE:GREGORIAN
METHOD:PUBLISH
BEGIN:VEVENT
SUMMARY:Nach den Rechten sehen: Karl Banghard  | Der Nazi im Wolfspelz – 
 Germanen und der rechte Rand
DTSTART:20191126T190000
DTEND:20191126T220000
UID:2026-04-21-20-01-05-0-@calendar.boell.de
DTSTAMP:20260421T180105
DESCRIPTION:▶ Siehe Veranstaltungsbeschreibung – Bremen – Landesstift
 ung Bremen
END:VEVENT
END:VCALENDAR
