BEGIN:VCALENDAR
VERSION:2.0
PRODID:-//ZContent.net//ZapCalLib 1.0//EN
CALSCALE:GREGORIAN
METHOD:PUBLISH
BEGIN:VEVENT
SUMMARY:Stadtspaziergang durch den Schöneberger Norden
DTSTART:20200927T140000
DTEND:20200927T161500
UID:2026-04-23-22-29-31-0-@calendar.boell.de
DTSTAMP:20260423T202931
DESCRIPTION:▶ Siehe Veranstaltungsbeschreibung – Landesstiftung Berlin 
 (Bildungswerk)
END:VEVENT
END:VCALENDAR
