BEGIN:VCALENDAR
VERSION:2.0
PRODID:-//ZContent.net//ZapCalLib 1.0//EN
CALSCALE:GREGORIAN
METHOD:PUBLISH
BEGIN:VEVENT
SUMMARY:Ausfall: Verhandeln nach der Harvard-Methode - sachgerecht, lösung
 sorientiert, f | Verhandeln nach der Harvard-Methode - sachgerecht, lösun
 gsorientiert, f
DTSTART:20200320T180000
DTEND:20200322T170000
UID:2026-04-20-18-06-40-0-@calendar.boell.de
DTSTAMP:20260420T160640
DESCRIPTION:▶ Siehe Veranstaltungsbeschreibung – Landesstiftung Berlin 
 (Bildungswerk)
END:VEVENT
END:VCALENDAR
