BEGIN:VCALENDAR
VERSION:2.0
PRODID:-//ZContent.net//ZapCalLib 1.0//EN
CALSCALE:GREGORIAN
METHOD:PUBLISH
BEGIN:VEVENT
SUMMARY:Präsenztraining für Frauen* | 
DTSTART:20191207T100000
DTEND:20191208T170000
UID:2021-12-02-03-32-09-0-@calendar.boell.de
DTSTAMP:20211202T023209
DESCRIPTION:▶ Siehe Veranstaltungsbeschreibung – Landesstiftung Berlin 
 (Bildungswerk)
END:VEVENT
END:VCALENDAR
