BEGIN:VCALENDAR
VERSION:2.0
PRODID:-//ZContent.net//ZapCalLib 1.0//EN
CALSCALE:GREGORIAN
METHOD:PUBLISH
BEGIN:VEVENT
SUMMARY:Fakten statt Fakenews | Grundlagen der Öffentlichkeitsarbeit
DTSTART:20200214T170000
DTEND:20200215T180000
UID:2021-12-02-04-34-17-0-@calendar.boell.de
DTSTAMP:20211202T033417
DESCRIPTION:▶ Siehe Veranstaltungsbeschreibung – Bielefeld – Landesst
 iftung Nordrhein-Westfalen
END:VEVENT
END:VCALENDAR
