BEGIN:VCALENDAR
VERSION:2.0
PRODID:-//ZContent.net//ZapCalLib 1.0//EN
CALSCALE:GREGORIAN
METHOD:PUBLISH
BEGIN:VEVENT
SUMMARY:Vernetzungstreffen und Akteursforum Bildung & Klimaschutz  | Bildun
 gsformate für Großgruppen 
DTSTART:20191204T140000
DTEND:20191204T180000
UID:2021-12-02-03-35-52-0-@calendar.boell.de
DTSTAMP:20211202T023552
DESCRIPTION:▶ Siehe Veranstaltungsbeschreibung – Hannover – Landessti
 ftung Niedersachsen (Leben & Umwelt)
END:VEVENT
END:VCALENDAR
