BEGIN:VCALENDAR
VERSION:2.0
PRODID:-//ZContent.net//ZapCalLib 1.0//EN
CALSCALE:GREGORIAN
METHOD:PUBLISH
BEGIN:VEVENT
SUMMARY:Feministische Friedensarbeit | Gender und Intersektionalität als C
 hancen der antimilitaristischen und pazifistischen Arbeit
DTSTART:20200201T093000
DTEND:20200201T180000
UID:2021-12-02-04-33-34-0-@calendar.boell.de
DTSTAMP:20211202T033334
DESCRIPTION:▶ Siehe Veranstaltungsbeschreibung – Hannover – Landessti
 ftung Niedersachsen (Leben & Umwelt)
END:VEVENT
END:VCALENDAR
