BEGIN:VCALENDAR
VERSION:2.0
PRODID:-//ZContent.net//ZapCalLib 1.0//EN
CALSCALE:GREGORIAN
METHOD:PUBLISH
BEGIN:VEVENT
SUMMARY:KÃ¶rpersprache und (nonverbale) Kommunikation | PrÃ¤senztraining fÃ
 ¼r junge Frauen*
DTSTART:20200307T100000
DTEND:20200308T170000
UID:2026-04-20-18-06-42-0-@calendar.boell.de
DTSTAMP:20260420T160642
DESCRIPTION:â–¶ Siehe Veranstaltungsbeschreibung â€“ Landesstiftung Berlin 
 (Bildungswerk)
END:VEVENT
END:VCALENDAR
