BEGIN:VCALENDAR
VERSION:2.0
PRODID:-//ZContent.net//ZapCalLib 1.0//EN
CALSCALE:GREGORIAN
METHOD:PUBLISH
BEGIN:VEVENT
SUMMARY:»Alles wird anders« mit Bernd Ullrich | climate care
DTSTART:20200116T200000
DTEND:20200116T220000
UID:2021-12-02-04-35-50-0-@calendar.boell.de
DTSTAMP:20211202T033550
DESCRIPTION:▶ Siehe Veranstaltungsbeschreibung – Göttingen – Landess
 tiftung Niedersachsen (Leben & Umwelt)
END:VEVENT
END:VCALENDAR
