BEGIN:VCALENDAR
VERSION:2.0
PRODID:-//ZContent.net//ZapCalLib 1.0//EN
CALSCALE:GREGORIAN
METHOD:PUBLISH
BEGIN:VEVENT
SUMMARY:„Sprachlos gemacht werden durch Migration?“ | Zur Situation mig
 rantischer Frauen in Niedersachen
DTSTART:20191205T190000
DTEND:20191205T220000
UID:2021-12-02-03-34-38-0-@calendar.boell.de
DTSTAMP:20211202T023438
DESCRIPTION:▶ Siehe Veranstaltungsbeschreibung – Hannover – Landessti
 ftung Niedersachsen (Leben & Umwelt)
END:VEVENT
END:VCALENDAR
