BEGIN:VCALENDAR
VERSION:2.0
PRODID:-//ZContent.net//ZapCalLib 1.0//EN
CALSCALE:GREGORIAN
METHOD:PUBLISH
BEGIN:VEVENT
SUMMARY:Ausfall: Grenzgänge West | Grenzen übertreten, Natur und Geschich
 te erfahren, die europäische Idee erleben
DTSTART:20200810T100000
DTEND:20200814T193000
UID:2026-04-22-23-08-43-0-@calendar.boell.de
DTSTAMP:20260422T210843
DESCRIPTION:▶ Siehe Veranstaltungsbeschreibung – Landesstiftung Nordrhe
 in-Westfalen
END:VEVENT
END:VCALENDAR
