BEGIN:VCALENDAR
VERSION:2.0
PRODID:-//ZContent.net//ZapCalLib 1.0//EN
CALSCALE:GREGORIAN
METHOD:PUBLISH
BEGIN:VEVENT
SUMMARY:Ausfall: Blühende Landschaften | Eine Erkundungsreise zwischen Lan
 dschaftsgestaltung und Wirtschaftsentwicklung mit dem Fahrrad entlang der 
 Elbe
DTSTART:20200626T140000
DTEND:20200705T110000
UID:2026-04-22-11-00-11-0-@calendar.boell.de
DTSTAMP:20260422T090011
DESCRIPTION:▶ Siehe Veranstaltungsbeschreibung – Magdeburg – Landesst
 iftung Nordrhein-Westfalen
END:VEVENT
END:VCALENDAR
