BEGIN:VCALENDAR
VERSION:2.0
PRODID:-//ZContent.net//ZapCalLib 1.0//EN
CALSCALE:GREGORIAN
METHOD:PUBLISH
BEGIN:VEVENT
SUMMARY:ABSAGE: Feminismus heute | Eine Reise ins politische und zivilgesel
 lschaftliche Berlin
DTSTART:20200316T110000
DTEND:20200320T153000
UID:2026-04-21-15-50-23-0-@calendar.boell.de
DTSTAMP:20260421T135023
DESCRIPTION:▶ Siehe Veranstaltungsbeschreibung – Berlin – Landesstift
 ung Nordrhein-Westfalen
END:VEVENT
END:VCALENDAR
