BEGIN:VCALENDAR
VERSION:2.0
PRODID:-//ZContent.net//ZapCalLib 1.0//EN
CALSCALE:GREGORIAN
METHOD:PUBLISH
BEGIN:VEVENT
SUMMARY:Absage: Das Meer kann nicht  mehr | Daten und Fakten über das frag
 ile Ökosystem
DTSTART:20200319T190000
DTEND:20200319T203000
UID:2026-04-21-02-26-53-0-@calendar.boell.de
DTSTAMP:20260421T002653
DESCRIPTION:▶ Siehe Veranstaltungsbeschreibung – Landesstiftung Sachsen
  (Weiterdenken)
END:VEVENT
END:VCALENDAR
