BEGIN:VCALENDAR
VERSION:2.0
PRODID:-//ZContent.net//ZapCalLib 1.0//EN
CALSCALE:GREGORIAN
METHOD:PUBLISH
BEGIN:VEVENT
SUMMARY:AUSGEBUCHT: GreenCampus Workshop Spezial: Eine Einführung ins Podc
 asting (online) | 
DTSTART:20200518T100000
DTEND:20200519T180000
UID:2021-12-02-04-34-31-0-@calendar.boell.de
DTSTAMP:20211202T033431
DESCRIPTION:▶ Online-Veranstaltung – Berlin – GreenCampus
END:VEVENT
END:VCALENDAR
