BEGIN:VCALENDAR
VERSION:2.0
PRODID:-//ZContent.net//ZapCalLib 1.0//EN
CALSCALE:GREGORIAN
METHOD:PUBLISH
BEGIN:VEVENT
SUMMARY:GreenCampus Workshop Spezial: Mobile Reporting (Warteliste) | Mit d
 em Smartphone filmen lernen
DTSTART:20200217T090000
DTEND:20200218T170000
UID:2021-12-02-04-34-03-0-@calendar.boell.de
DTSTAMP:20211202T033403
DESCRIPTION:Heinrich-Böll-Stiftung - Bundesstiftung Berlin – Berlin – 
 GreenCampus
END:VEVENT
END:VCALENDAR
