BEGIN:VCALENDAR
VERSION:2.0
PRODID:-//ZContent.net//ZapCalLib 1.0//EN
CALSCALE:GREGORIAN
METHOD:PUBLISH
BEGIN:VEVENT
SUMMARY:GreenCampus Workshop Spezial: Strategisches Netzwerken für Frauen 
 (Warteliste) | 
DTSTART:20200114T100000
DTEND:20200114T180000
UID:2021-12-02-04-19-12-0-@calendar.boell.de
DTSTAMP:20211202T031912
DESCRIPTION:Heinrich-Böll-Stiftung - Bundesstiftung Berlin – Berlin – 
 GreenCampus
END:VEVENT
END:VCALENDAR
