BEGIN:VCALENDAR
VERSION:2.0
PRODID:-//ZContent.net//ZapCalLib 1.0//EN
CALSCALE:GREGORIAN
METHOD:PUBLISH
BEGIN:VEVENT
SUMMARY:Ausstellung "Die Macht der Gefühle. Deutschland 19 | 19“  | 
DTSTART:20191111T100000
DTEND:20191206T170000
UID:2021-12-02-03-40-19-0-@calendar.boell.de
DTSTAMP:20211202T024019
DESCRIPTION:▶ Siehe Veranstaltungsbeschreibung – Rostock – Landesstif
 tung Mecklenburg-Vorpommern
END:VEVENT
END:VCALENDAR
