BEGIN:VCALENDAR
VERSION:2.0
PRODID:-//ZContent.net//ZapCalLib 1.0//EN
CALSCALE:GREGORIAN
METHOD:PUBLISH
BEGIN:VEVENT
SUMMARY:Ausstellung "Heimat suchen - Heimat finden“ | Malerei von Johan S
 warts
DTSTART:20190909T150000
DTEND:20191220T120000
UID:2021-12-02-03-40-37-0-@calendar.boell.de
DTSTAMP:20211202T024037
DESCRIPTION:▶ Siehe Veranstaltungsbeschreibung – Rostock – Landesstif
 tung Mecklenburg-Vorpommern
END:VEVENT
END:VCALENDAR
